BEGIN:VCALENDAR
VERSION:2.0
PRODID:icalendar-ruby
CALSCALE:GREGORIAN
METHOD:PUBLISH
BEGIN:VEVENT
DTSTAMP:20260426T040354Z
UID:101-252273@cacdinuba.com
DTSTART:20261018T170000Z
DTEND:20261018T193000Z
CLASS:PUBLIC
CREATED:20260425T183904
DESCRIPTION:
LAST-MODIFIED:20260425T183904
LOCATION:1013 N Alta
SUMMARY:Sunday AM Worship
URL;VALUE=URI:https://www.cacdinuba.com/events/sunday-am-worship/2026-10-18
END:VEVENT
END:VCALENDAR
