BEGIN:VCALENDAR
VERSION:2.0
PRODID:icalendar-ruby
CALSCALE:GREGORIAN
METHOD:PUBLISH
BEGIN:VEVENT
DTSTAMP:20260425T154940Z
UID:101-251564@cacdinuba.com
DTSTART:20260913T170000Z
DTEND:20260913T193000Z
CLASS:PUBLIC
CREATED:20260425T075310
DESCRIPTION:
LAST-MODIFIED:20260425T075310
LOCATION:1013 N Alta
SUMMARY:Sunday AM Worship
URL;VALUE=URI:https://www.cacdinuba.com/events/sunday-am-worship/2026-09-13
END:VEVENT
END:VCALENDAR
