BEGIN:VCALENDAR
VERSION:2.0
PRODID:icalendar-ruby
CALSCALE:GREGORIAN
METHOD:PUBLISH
BEGIN:VEVENT
DTSTAMP:20260426T030023Z
UID:151-252364@cacdinuba.com
DTSTART:20261104T030000Z
DTEND:20261104T040000Z
CLASS:PUBLIC
CREATED:20260425T183904
DESCRIPTION:
LAST-MODIFIED:20260425T183904
LOCATION:
SUMMARY:Prayer
URL;VALUE=URI:https://www.cacdinuba.com/events/prayer/2026-11-03
END:VEVENT
END:VCALENDAR
