BEGIN:VCALENDAR
VERSION:2.0
PRODID:icalendar-ruby
CALSCALE:GREGORIAN
METHOD:PUBLISH
BEGIN:VEVENT
DTSTAMP:20260426T013017Z
UID:151-252187@cacdinuba.com
DTSTART:20261028T020000Z
DTEND:20261028T030000Z
CLASS:PUBLIC
CREATED:20260425T155658
DESCRIPTION:
LAST-MODIFIED:20260425T155658
LOCATION:
SUMMARY:Prayer
URL;VALUE=URI:https://www.cacdinuba.com/events/prayer/2026-10-27
END:VEVENT
END:VCALENDAR
