BEGIN:VCALENDAR
VERSION:2.0
PRODID:icalendar-ruby
CALSCALE:GREGORIAN
METHOD:PUBLISH
BEGIN:VEVENT
DTSTAMP:20260425T202321Z
UID:151-252008@cacdinuba.com
DTSTART:20261007T020000Z
DTEND:20261007T030000Z
CLASS:PUBLIC
CREATED:20260425T131442
DESCRIPTION:
LAST-MODIFIED:20260425T131442
LOCATION:
SUMMARY:Prayer
URL;VALUE=URI:https://www.cacdinuba.com/events/prayer/2026-10-06
END:VEVENT
END:VCALENDAR
