BEGIN:VCALENDAR
VERSION:2.0
PRODID:icalendar-ruby
CALSCALE:GREGORIAN
METHOD:PUBLISH
BEGIN:VEVENT
DTSTAMP:20260425T184641Z
UID:151-251831@cacdinuba.com
DTSTART:20260930T020000Z
DTEND:20260930T030000Z
CLASS:PUBLIC
CREATED:20260425T103308
DESCRIPTION:
LAST-MODIFIED:20260425T103308
LOCATION:
SUMMARY:Prayer
URL;VALUE=URI:https://www.cacdinuba.com/events/prayer/2026-09-29
END:VEVENT
END:VCALENDAR
