BEGIN:VCALENDAR
VERSION:2.0
PRODID:icalendar-ruby
CALSCALE:GREGORIAN
METHOD:PUBLISH
BEGIN:VEVENT
DTSTAMP:20260425T171416Z
UID:151-251654@cacdinuba.com
DTSTART:20260923T020000Z
DTEND:20260923T030000Z
CLASS:PUBLIC
CREATED:20260425T075310
DESCRIPTION:
LAST-MODIFIED:20260425T075310
LOCATION:
SUMMARY:Prayer
URL;VALUE=URI:https://www.cacdinuba.com/events/prayer/2026-09-22
END:VEVENT
END:VCALENDAR
