BEGIN:VCALENDAR
VERSION:2.0
PRODID:icalendar-ruby
CALSCALE:GREGORIAN
METHOD:PUBLISH
BEGIN:VEVENT
DTSTAMP:20260425T155334Z
UID:151-251653@cacdinuba.com
DTSTART:20260916T020000Z
DTEND:20260916T030000Z
CLASS:PUBLIC
CREATED:20260425T075310
DESCRIPTION:
LAST-MODIFIED:20260425T075310
LOCATION:
SUMMARY:Prayer
URL;VALUE=URI:https://www.cacdinuba.com/events/prayer/2026-09-15
END:VEVENT
END:VCALENDAR
