BEGIN:VCALENDAR
VERSION:2.0
PRODID:icalendar-ruby
CALSCALE:GREGORIAN
METHOD:PUBLISH
BEGIN:VEVENT
DTSTAMP:20260426T021046Z
UID:100-252228@cacdinuba.com
DTSTART:20261123T020000Z
DTEND:20261123T043000Z
CLASS:PUBLIC
CREATED:20260425T183904
DESCRIPTION:
LAST-MODIFIED:20260425T183904
LOCATION:1013 N Alta
SUMMARY:NO Sunday PM Worship
URL;VALUE=URI:https://www.cacdinuba.com/events/no-sunday-pm-worship/2026-11
 -22
END:VEVENT
END:VCALENDAR
