BEGIN:VCALENDAR
VERSION:2.0
PRODID:icalendar-ruby
CALSCALE:GREGORIAN
METHOD:PUBLISH
BEGIN:VEVENT
DTSTAMP:20260426T003109Z
UID:100-252051@cacdinuba.com
DTSTART:20261116T020000Z
DTEND:20261116T043000Z
CLASS:PUBLIC
CREATED:20260425T155658
DESCRIPTION:
LAST-MODIFIED:20260425T155658
LOCATION:1013 N Alta
SUMMARY:NO Sunday PM Worship
URL;VALUE=URI:https://www.cacdinuba.com/events/no-sunday-pm-worship/2026-11
 -15
END:VEVENT
END:VCALENDAR
