BEGIN:VCALENDAR
VERSION:2.0
PRODID:icalendar-ruby
CALSCALE:GREGORIAN
METHOD:PUBLISH
BEGIN:VEVENT
DTSTAMP:20260425T224933Z
UID:100-251874@cacdinuba.com
DTSTART:20261109T020000Z
DTEND:20261109T043000Z
CLASS:PUBLIC
CREATED:20260425T131442
DESCRIPTION:
LAST-MODIFIED:20260425T131442
LOCATION:1013 N Alta
SUMMARY:NO Sunday PM Worship
URL;VALUE=URI:https://www.cacdinuba.com/events/no-sunday-pm-worship/2026-11
 -08
END:VEVENT
END:VCALENDAR
