BEGIN:VCALENDAR
VERSION:2.0
PRODID:icalendar-ruby
CALSCALE:GREGORIAN
METHOD:PUBLISH
BEGIN:VEVENT
DTSTAMP:20260425T210742Z
UID:100-251873@cacdinuba.com
DTSTART:20261102T020000Z
DTEND:20261102T043000Z
CLASS:PUBLIC
CREATED:20260425T131442
DESCRIPTION:
LAST-MODIFIED:20260425T131442
LOCATION:1013 N Alta
SUMMARY:NO Sunday PM Worship
URL;VALUE=URI:https://www.cacdinuba.com/events/no-sunday-pm-worship/2026-11
 -01
END:VEVENT
END:VCALENDAR
