BEGIN:VCALENDAR
VERSION:2.0
PRODID:icalendar-ruby
CALSCALE:GREGORIAN
METHOD:PUBLISH
BEGIN:VEVENT
DTSTAMP:20260425T192257Z
UID:100-251696@cacdinuba.com
DTSTART:20261026T010000Z
DTEND:20261026T033000Z
CLASS:PUBLIC
CREATED:20260425T103308
DESCRIPTION:
LAST-MODIFIED:20260425T103308
LOCATION:1013 N Alta
SUMMARY:NO Sunday PM Worship
URL;VALUE=URI:https://www.cacdinuba.com/events/no-sunday-pm-worship/2026-10
 -25
END:VEVENT
END:VCALENDAR
