BEGIN:VCALENDAR
VERSION:2.0
PRODID:icalendar-ruby
CALSCALE:GREGORIAN
METHOD:PUBLISH
BEGIN:VEVENT
DTSTAMP:20260425T161943Z
UID:100-251518@cacdinuba.com
DTSTART:20261012T010000Z
DTEND:20261012T033000Z
CLASS:PUBLIC
CREATED:20260425T075310
DESCRIPTION:
LAST-MODIFIED:20260425T075310
LOCATION:1013 N Alta
SUMMARY:NO Sunday PM Worship
URL;VALUE=URI:https://www.cacdinuba.com/events/no-sunday-pm-worship/2026-10
 -11
END:VEVENT
END:VCALENDAR
