BEGIN:VCALENDAR
VERSION:2.0
PRODID:icalendar-ruby
CALSCALE:GREGORIAN
METHOD:PUBLISH
BEGIN:VEVENT
DTSTAMP:20260425T132359Z
UID:100-251340@cacdinuba.com
DTSTART:20260928T010000Z
DTEND:20260928T033000Z
CLASS:PUBLIC
CREATED:20260425T051205
DESCRIPTION:
LAST-MODIFIED:20260425T051205
LOCATION:1013 N Alta
SUMMARY:NO Sunday PM Worship
URL;VALUE=URI:https://www.cacdinuba.com/events/no-sunday-pm-worship/2026-09
 -27
END:VEVENT
END:VCALENDAR
