BEGIN:VCALENDAR
VERSION:2.0
PRODID:icalendar-ruby
CALSCALE:GREGORIAN
METHOD:PUBLISH
BEGIN:VEVENT
DTSTAMP:20260425T102359Z
UID:100-251162@cacdinuba.com
DTSTART:20260914T010000Z
DTEND:20260914T033000Z
CLASS:PUBLIC
CREATED:20260424T192740
DESCRIPTION:
LAST-MODIFIED:20260424T192740
LOCATION:1013 N Alta
SUMMARY:NO Sunday PM Worship
URL;VALUE=URI:https://www.cacdinuba.com/events/no-sunday-pm-worship/2026-09
 -13
END:VEVENT
END:VCALENDAR
