BEGIN:VCALENDAR
VERSION:2.0
PRODID:icalendar-ruby
CALSCALE:GREGORIAN
METHOD:PUBLISH
BEGIN:VEVENT
DTSTAMP:20260425T041813Z
UID:100-251158@cacdinuba.com
DTSTART:20260817T010000Z
DTEND:20260817T033000Z
CLASS:PUBLIC
CREATED:20260424T192740
DESCRIPTION:
LAST-MODIFIED:20260424T192740
LOCATION:1013 N Alta
SUMMARY:NO Sunday PM Worship
URL;VALUE=URI:https://www.cacdinuba.com/events/no-sunday-pm-worship/2026-08
 -16
END:VEVENT
END:VCALENDAR
