BEGIN:VCALENDAR
VERSION:2.0
PRODID:icalendar-ruby
CALSCALE:GREGORIAN
METHOD:PUBLISH
BEGIN:VEVENT
DTSTAMP:20260425T011816Z
UID:100-250980@cacdinuba.com
DTSTART:20260803T010000Z
DTEND:20260803T033000Z
CLASS:PUBLIC
CREATED:20260424T163812
DESCRIPTION:
LAST-MODIFIED:20260424T163812
LOCATION:1013 N Alta
SUMMARY:NO Sunday PM Worship
URL;VALUE=URI:https://www.cacdinuba.com/events/no-sunday-pm-worship/2026-08
 -02
END:VEVENT
END:VCALENDAR
