BEGIN:VCALENDAR
VERSION:2.0
PRODID:icalendar-ruby
CALSCALE:GREGORIAN
METHOD:PUBLISH
BEGIN:VEVENT
DTSTAMP:20260424T221609Z
UID:100-250802@cacdinuba.com
DTSTART:20260720T010000Z
DTEND:20260720T033000Z
CLASS:PUBLIC
CREATED:20260424T135019
DESCRIPTION:
LAST-MODIFIED:20260424T135019
LOCATION:1013 N Alta
SUMMARY:NO Sunday PM Worship
URL;VALUE=URI:https://www.cacdinuba.com/events/no-sunday-pm-worship/2026-07
 -19
END:VEVENT
END:VCALENDAR
