BEGIN:VCALENDAR
VERSION:2.0
PRODID:icalendar-ruby
CALSCALE:GREGORIAN
METHOD:PUBLISH
BEGIN:VEVENT
DTSTAMP:20260426T033146Z
UID:103-252320@cacdinuba.com
DTSTART:20261029T020000Z
DTEND:20261029T040000Z
CLASS:PUBLIC
CREATED:20260425T183904
DESCRIPTION:
LAST-MODIFIED:20260425T183904
LOCATION:1013 N Alta
SUMMARY:Midweek Bible Study
URL;VALUE=URI:https://www.cacdinuba.com/events/midweek-bible-study/2026-10-
 28
END:VEVENT
END:VCALENDAR
