BEGIN:VCALENDAR
VERSION:2.0
PRODID:icalendar-ruby
CALSCALE:GREGORIAN
METHOD:PUBLISH
BEGIN:VEVENT
DTSTAMP:20260426T013902Z
UID:103-252143@cacdinuba.com
DTSTART:20261022T020000Z
DTEND:20261022T040000Z
CLASS:PUBLIC
CREATED:20260425T155658
DESCRIPTION:
LAST-MODIFIED:20260425T155658
LOCATION:1013 N Alta
SUMMARY:Midweek Bible Study
URL;VALUE=URI:https://www.cacdinuba.com/events/midweek-bible-study/2026-10-
 21
END:VEVENT
END:VCALENDAR
