BEGIN:VCALENDAR
VERSION:2.0
PRODID:icalendar-ruby
CALSCALE:GREGORIAN
METHOD:PUBLISH
BEGIN:VEVENT
DTSTAMP:20260425T204154Z
UID:103-251964@cacdinuba.com
DTSTART:20261001T020000Z
DTEND:20261001T040000Z
CLASS:PUBLIC
CREATED:20260425T131442
DESCRIPTION:
LAST-MODIFIED:20260425T131442
LOCATION:1013 N Alta
SUMMARY:Midweek Bible Study
URL;VALUE=URI:https://www.cacdinuba.com/events/midweek-bible-study/2026-09-
 30
END:VEVENT
END:VCALENDAR
