BEGIN:VCALENDAR
VERSION:2.0
PRODID:icalendar-ruby
CALSCALE:GREGORIAN
METHOD:PUBLISH
BEGIN:VEVENT
DTSTAMP:20260425T185903Z
UID:103-251787@cacdinuba.com
DTSTART:20260924T020000Z
DTEND:20260924T040000Z
CLASS:PUBLIC
CREATED:20260425T103308
DESCRIPTION:
LAST-MODIFIED:20260425T103308
LOCATION:1013 N Alta
SUMMARY:Midweek Bible Study
URL;VALUE=URI:https://www.cacdinuba.com/events/midweek-bible-study/2026-09-
 23
END:VEVENT
END:VCALENDAR
