BEGIN:VCALENDAR
VERSION:2.0
PRODID:icalendar-ruby
CALSCALE:GREGORIAN
METHOD:PUBLISH
BEGIN:VEVENT
DTSTAMP:20260425T154735Z
UID:103-251609@cacdinuba.com
DTSTART:20260910T020000Z
DTEND:20260910T040000Z
CLASS:PUBLIC
CREATED:20260425T075310
DESCRIPTION:
LAST-MODIFIED:20260425T075310
LOCATION:1013 N Alta
SUMMARY:Midweek Bible Study
URL;VALUE=URI:https://www.cacdinuba.com/events/midweek-bible-study/2026-09-
 09
END:VEVENT
END:VCALENDAR
