BEGIN:VCALENDAR
VERSION:2.0
PRODID:icalendar-ruby
CALSCALE:GREGORIAN
METHOD:PUBLISH
BEGIN:VEVENT
DTSTAMP:20260425T142032Z
UID:103-251432@cacdinuba.com
DTSTART:20260903T020000Z
DTEND:20260903T040000Z
CLASS:PUBLIC
CREATED:20260425T051206
DESCRIPTION:
LAST-MODIFIED:20260425T051206
LOCATION:1013 N Alta
SUMMARY:Midweek Bible Study
URL;VALUE=URI:https://www.cacdinuba.com/events/midweek-bible-study/2026-09-
 02
END:VEVENT
END:VCALENDAR
