BEGIN:VCALENDAR
VERSION:2.0
PRODID:icalendar-ruby
CALSCALE:GREGORIAN
METHOD:PUBLISH
BEGIN:VEVENT
DTSTAMP:20260425T125743Z
UID:103-251431@cacdinuba.com
DTSTART:20260827T020000Z
DTEND:20260827T040000Z
CLASS:PUBLIC
CREATED:20260425T051206
DESCRIPTION:
LAST-MODIFIED:20260425T051206
LOCATION:1013 N Alta
SUMMARY:Midweek Bible Study
URL;VALUE=URI:https://www.cacdinuba.com/events/midweek-bible-study/2026-08-
 26
END:VEVENT
END:VCALENDAR
