BEGIN:VCALENDAR
VERSION:2.0
PRODID:icalendar-ruby
CALSCALE:GREGORIAN
METHOD:PUBLISH
BEGIN:VEVENT
DTSTAMP:20260425T112158Z
UID:103-251254@cacdinuba.com
DTSTART:20260820T020000Z
DTEND:20260820T040000Z
CLASS:PUBLIC
CREATED:20260424T192740
DESCRIPTION:
LAST-MODIFIED:20260424T192740
LOCATION:1013 N Alta
SUMMARY:Midweek Bible Study
URL;VALUE=URI:https://www.cacdinuba.com/events/midweek-bible-study/2026-08-
 19
END:VEVENT
END:VCALENDAR
